






BEGIN:VCALENDAR
VERSION:2.0
PRODID:-//The Detectives’ Endowment Association - ECPv6.15.20//NONSGML v1.0//EN
CALSCALE:GREGORIAN
METHOD:PUBLISH
X-WR-CALNAME:The Detectives’ Endowment Association
X-ORIGINAL-URL:https://nycdetectives.org
X-WR-CALDESC:Events for The Detectives’ Endowment Association
REFRESH-INTERVAL;VALUE=DURATION:PT1H
X-Robots-Tag:noindex
X-PUBLISHED-TTL:PT1H
BEGIN:VTIMEZONE
TZID:America/New_York
BEGIN:DAYLIGHT
TZOFFSETFROM:-0500
TZOFFSETTO:-0400
TZNAME:EDT
DTSTART:20250309T070000
END:DAYLIGHT
BEGIN:STANDARD
TZOFFSETFROM:-0400
TZOFFSETTO:-0500
TZNAME:EST
DTSTART:20251102T060000
END:STANDARD
BEGIN:DAYLIGHT
TZOFFSETFROM:-0500
TZOFFSETTO:-0400
TZNAME:EDT
DTSTART:20260308T070000
END:DAYLIGHT
BEGIN:STANDARD
TZOFFSETFROM:-0400
TZOFFSETTO:-0500
TZNAME:EST
DTSTART:20261101T060000
END:STANDARD
BEGIN:DAYLIGHT
TZOFFSETFROM:-0500
TZOFFSETTO:-0400
TZNAME:EDT
DTSTART:20270314T070000
END:DAYLIGHT
BEGIN:STANDARD
TZOFFSETFROM:-0400
TZOFFSETTO:-0500
TZNAME:EST
DTSTART:20271107T060000
END:STANDARD
END:VTIMEZONE
BEGIN:VEVENT
DTSTART;TZID=America/New_York:20260419T080000
DTEND;TZID=America/New_York:20260419T130000
DTSTAMP:20260419T091142
CREATED:20260208T035914Z
LAST-MODIFIED:20260323T222629Z
UID:104554-1776585600-1776603600@nycdetectives.org
SUMMARY:Holy Name Society - Manhattan\, Bronx & Staten Island
DESCRIPTION:Mass @ ST Patrick’s Cathedral \nProcession \nBreakfast at New York Hilton Midtown\, 53rd Street \n \n 
URL:https://nycdetectives.org/event/holy-name-society-manhattan-bronx-staten-island/
LOCATION:New York Hilton Midtown\, 1335 6th Ave\, New York\, NY\, 10019
CATEGORIES:Fraternal Event,Scholarship & Awards Breakfast
ATTACH;FMTTYPE=image/jpeg:https://nycdetectives.org/wp-content/uploads/2026/02/04192026-HNS-MBxSI.jpg
END:VEVENT
BEGIN:VEVENT
DTSTART;TZID=America/New_York:20260419T150000
DTEND;TZID=America/New_York:20260420T120000
DTSTAMP:20260419T091142
CREATED:20260415T150919Z
LAST-MODIFIED:20260415T150919Z
UID:107681-1776610800-1776686400@nycdetectives.org
SUMMARY:Funeral for Paul McCullagh\, Executive Director of Labor Relations
DESCRIPTION:
URL:https://nycdetectives.org/event/funeral-for-paul-mccullagh-executive-director-of-labor-relations/
LOCATION:NY
ATTACH;FMTTYPE=image/jpeg:https://nycdetectives.org/wp-content/uploads/2026/04/Funeral-Arrangements-for-Active-Executive-Director-Paul-McCullagh.jpeg
END:VEVENT
BEGIN:VEVENT
DTSTART;TZID=America/New_York:20260419T190000
DTEND;TZID=America/New_York:20260419T220000
DTSTAMP:20260419T091142
CREATED:20260323T224924Z
LAST-MODIFIED:20260323T224924Z
UID:106536-1776625200-1776636000@nycdetectives.org
SUMMARY:NYPD Detectives Vs Boldest Hockey to Benefit Autism Awareness
DESCRIPTION:
URL:https://nycdetectives.org/event/nypd-detectives-vs-boldest-hockey-to-benefit-autism-awareness/
LOCATION:The Rink @ American Dream\, 1 American Dream Way\, Rutherford\, NY\, 07073
CATEGORIES:Fundraiser,Sporting Event
END:VEVENT
END:VCALENDAR