






BEGIN:VCALENDAR
VERSION:2.0
PRODID:-//The Detectives’ Endowment Association - ECPv6.15.20//NONSGML v1.0//EN
CALSCALE:GREGORIAN
METHOD:PUBLISH
X-WR-CALNAME:The Detectives’ Endowment Association
X-ORIGINAL-URL:https://nycdetectives.org
X-WR-CALDESC:Events for The Detectives’ Endowment Association
REFRESH-INTERVAL;VALUE=DURATION:PT1H
X-Robots-Tag:noindex
X-PUBLISHED-TTL:PT1H
BEGIN:VTIMEZONE
TZID:America/New_York
BEGIN:DAYLIGHT
TZOFFSETFROM:-0500
TZOFFSETTO:-0400
TZNAME:EDT
DTSTART:20250309T070000
END:DAYLIGHT
BEGIN:STANDARD
TZOFFSETFROM:-0400
TZOFFSETTO:-0500
TZNAME:EST
DTSTART:20251102T060000
END:STANDARD
BEGIN:DAYLIGHT
TZOFFSETFROM:-0500
TZOFFSETTO:-0400
TZNAME:EDT
DTSTART:20260308T070000
END:DAYLIGHT
BEGIN:STANDARD
TZOFFSETFROM:-0400
TZOFFSETTO:-0500
TZNAME:EST
DTSTART:20261101T060000
END:STANDARD
BEGIN:DAYLIGHT
TZOFFSETFROM:-0500
TZOFFSETTO:-0400
TZNAME:EDT
DTSTART:20270314T070000
END:DAYLIGHT
BEGIN:STANDARD
TZOFFSETFROM:-0400
TZOFFSETTO:-0500
TZNAME:EST
DTSTART:20271107T060000
END:STANDARD
END:VTIMEZONE
BEGIN:VEVENT
DTSTART;TZID=America/New_York:20260325T123000
DTEND;TZID=America/New_York:20260325T150000
DTSTAMP:20260423T012815
CREATED:20260316T201126Z
LAST-MODIFIED:20260316T202425Z
UID:106234-1774441800-1774450800@nycdetectives.org
SUMMARY:Walk Out for Det. Reginald D. Law
DESCRIPTION:
URL:https://nycdetectives.org/event/walk-out-for-det-reginald-d-law/
LOCATION:The Old Police Academy\, 235 East 20th Street -- 6th Floor Training Center
CATEGORIES:Walk-Out
ATTACH;FMTTYPE=image/jpeg:https://nycdetectives.org/wp-content/uploads/2026/03/LAW-WALK-OUT-scaled.jpg
END:VEVENT
BEGIN:VEVENT
DTSTART;TZID=America/New_York:20260326T180000
DTEND;TZID=America/New_York:20260326T220000
DTSTAMP:20260423T012815
CREATED:20260323T220735Z
LAST-MODIFIED:20260323T220746Z
UID:106512-1774548000-1774562400@nycdetectives.org
SUMMARY:NYPD Fishing Club Cigar Night
DESCRIPTION:
URL:https://nycdetectives.org/event/nypd-fishing-club-cigar-night/
LOCATION:Cena 081\, 103 Post Ave\, Westbury\, NY\, 11590
CATEGORIES:Cigar Night
ATTACH;FMTTYPE=image/jpeg:https://nycdetectives.org/wp-content/uploads/2026/03/03262026-Fishing-Club-CIgar-Night-scaled.jpg
END:VEVENT
BEGIN:VEVENT
DTSTART;TZID=America/New_York:20260327T090000
DTEND;TZID=America/New_York:20260327T130000
DTSTAMP:20260423T012815
CREATED:20260317T171247Z
LAST-MODIFIED:20260317T171324Z
UID:106264-1774602000-1774616400@nycdetectives.org
SUMMARY:Wake & Funeral for NYPD P.O. & U. S. Army National Guard Major Sorffly Davius
DESCRIPTION:
URL:https://nycdetectives.org/event/wake-funeral-for-nypd-p-o-u-s-army-national-guard-major-sorffly-davius/
LOCATION:Christian Cultural Center\, 12020 Flatlands Avenue\, Brooklyn\, NY\, 11207
CATEGORIES:Funeral
ATTACH;FMTTYPE=image/jpeg:https://nycdetectives.org/wp-content/uploads/2026/03/Funeral-Arrangements-for-PO-Davius_.jpeg
END:VEVENT
BEGIN:VEVENT
DTSTART;TZID=America/New_York:20260327T170000
DTEND;TZID=America/New_York:20260327T233000
DTSTAMP:20260423T012815
CREATED:20260324T164056Z
LAST-MODIFIED:20260324T164114Z
UID:106577-1774630800-1774654200@nycdetectives.org
SUMMARY:Retirement Party for Det. First Grade Roy George
DESCRIPTION:
URL:https://nycdetectives.org/event/retirement-party-for-det-first-grade-roy-george/
LOCATION:Smithfield Hall\, 138 West 25th Street\, New York\, NY\, 10001
CATEGORIES:Retirement
ATTACH;FMTTYPE=image/jpeg:https://nycdetectives.org/wp-content/uploads/2026/03/Roy-George-1.jpg
END:VEVENT
BEGIN:VEVENT
DTSTART;TZID=America/New_York:20260327T180000
DTEND;TZID=America/New_York:20260327T233000
DTSTAMP:20260423T012815
CREATED:20260210T144950Z
LAST-MODIFIED:20260210T144950Z
UID:104631-1774634400-1774654200@nycdetectives.org
SUMMARY:Traffic Squad Benevolent Association Scholarship and Awards Dinner
DESCRIPTION:
URL:https://nycdetectives.org/event/traffic-squad-benevolent-association-scholarship-and-awards-dinner/
LOCATION:Worlds Fair Marina\, 1 Marina Rd\, Corona\, NY\, 11368
CATEGORIES:Fraternal Event,Scholarship & Awards Dinner Dance
END:VEVENT
BEGIN:VEVENT
DTSTART;TZID=America/New_York:20260327T190000
DTEND;TZID=America/New_York:20260327T233000
DTSTAMP:20260423T012815
CREATED:20260323T220351Z
LAST-MODIFIED:20260323T220351Z
UID:106494-1774638000-1774654200@nycdetectives.org
SUMMARY:4th Annual National Latino Peace Officers Association
DESCRIPTION:
URL:https://nycdetectives.org/event/4th-annual-national-latino-peace-officers-association/
LOCATION:Marina Del Rey\, 1 Marina Drive\, Bronx\, NY\, 10456
CATEGORIES:Awards Dinner
ATTACH;FMTTYPE=image/jpeg:https://nycdetectives.org/wp-content/uploads/2026/03/03272026-NLPOA-Bronx-scaled.jpg
END:VEVENT
BEGIN:VEVENT
DTSTART;TZID=America/New_York:20260328T100000
DTEND;TZID=America/New_York:20260328T170000
DTSTAMP:20260423T012815
CREATED:20260323T181042Z
LAST-MODIFIED:20260323T215650Z
UID:106482-1774692000-1774717200@nycdetectives.org
SUMMARY:Memorial Service For Albert "Big Al" Thompson
DESCRIPTION:Repass will take place at Harlem School of Arts\n645 St. Nicholas Ave. 1300-1700 Hours
URL:https://nycdetectives.org/event/memorial-service-for-albert-big-al-thompson/
LOCATION:The Parish Of St. Borromeo\, 211 West 141 Street\, NEW YORK\, NY\, 10030\, United States
CATEGORIES:Remembrance
ATTACH;FMTTYPE=image/jpeg:https://nycdetectives.org/wp-content/uploads/2026/03/Albert-Thompson-2.jpg
END:VEVENT
BEGIN:VEVENT
DTSTART;TZID=America/New_York:20260330T190000
DTEND;TZID=America/New_York:20260330T233000
DTSTAMP:20260423T012815
CREATED:20260323T135529Z
LAST-MODIFIED:20260323T135553Z
UID:106434-1774897200-1774913400@nycdetectives.org
SUMMARY:Fifth Annual Whiskey & Cigar Night Guardians of Our Dependents
DESCRIPTION:
URL:https://nycdetectives.org/event/fifth-annual-whiskey-cigar-night-guardians-of-our-dependents/
LOCATION:Blueblinds Mansion\, 120 Edgewood Avenue\, Smithtown\, NY
CATEGORIES:Cigar Night
ATTACH;FMTTYPE=image/jpeg:https://nycdetectives.org/wp-content/uploads/2026/03/Whiskey-Senft.jpeg
END:VEVENT
BEGIN:VEVENT
DTSTART;TZID=America/New_York:20260401T101500
DTEND;TZID=America/New_York:20260401T130000
DTSTAMP:20260423T012815
CREATED:20260323T221345Z
LAST-MODIFIED:20260323T221345Z
UID:106515-1775038500-1775048400@nycdetectives.org
SUMMARY:5th Annual Memorial Mass for DI Denis Mullaney
DESCRIPTION:
URL:https://nycdetectives.org/event/5th-annual-memorial-mass-for-di-denis-mullaney/
LOCATION:St Frances De Chantel RC CHurch\, 190 Hollywood Ave\, Bronx\, NY\, 10465
CATEGORIES:Remembrance
ATTACH;FMTTYPE=image/jpeg:https://nycdetectives.org/wp-content/uploads/2026/03/04012026-5th-Annual-Memorial-for-DI-Denis-Mullaney-scaled.jpg
END:VEVENT
BEGIN:VEVENT
DTSTART;TZID=America/New_York:20260407T130000
DTEND;TZID=America/New_York:20260407T150000
DTSTAMP:20260423T012815
CREATED:20260323T171019Z
LAST-MODIFIED:20260323T171146Z
UID:106440-1775566800-1775574000@nycdetectives.org
SUMMARY:Walk-Out for Det. First Grade Rick Simplicio
DESCRIPTION:
URL:https://nycdetectives.org/event/walk-out-for-det-first-grade-rick-simplicio/
LOCATION:40 Precinct\, 567 East 149 Street\, Bronx\, NY\, 10455
CATEGORIES:Walk-Out
ATTACH;FMTTYPE=image/jpeg:https://nycdetectives.org/wp-content/uploads/2026/03/Rick-Simplicio-Walkout.jpg
END:VEVENT
BEGIN:VEVENT
DTSTART;TZID=America/New_York:20260407T183000
DTEND;TZID=America/New_York:20260407T203000
DTSTAMP:20260423T012815
CREATED:20260323T221936Z
LAST-MODIFIED:20260323T221936Z
UID:106523-1775586600-1775593800@nycdetectives.org
SUMMARY:Ray Tierney\, Suffolk County DA Fundraiser
DESCRIPTION:
URL:https://nycdetectives.org/event/ray-tierney-suffolk-county-da-fundraiser/
LOCATION:The Refuge\, 515 Broadhollow Rd.\, Melville\, NY\, 11747
CATEGORIES:Fundraiser
ATTACH;FMTTYPE=image/jpeg:https://nycdetectives.org/wp-content/uploads/2026/03/04072026-Ray-Tierney-SC-DA.jpg
END:VEVENT
BEGIN:VEVENT
DTSTART;TZID=America/New_York:20260408T183000
DTEND;TZID=America/New_York:20260408T213000
DTSTAMP:20260423T012815
CREATED:20260311T155607Z
LAST-MODIFIED:20260323T173411Z
UID:106086-1775673000-1775683800@nycdetectives.org
SUMMARY:RDNY April Meeting
DESCRIPTION:
URL:https://nycdetectives.org/event/rdny-april-meeting/
LOCATION:Russo’s on the Bay\, 162-45 Cross Bay Boulevard\, Howard Beach\, NY\, 11414
CATEGORIES:General Membership Meeting
ATTACH;FMTTYPE=image/jpeg:https://nycdetectives.org/wp-content/uploads/2026/03/RDNY-April-2026.jpg
END:VEVENT
BEGIN:VEVENT
DTSTART;TZID=America/New_York:20260409T090000
DTEND;TZID=America/New_York:20260409T130000
DTSTAMP:20260423T012815
CREATED:20260407T193250Z
LAST-MODIFIED:20260408T143939Z
UID:107383-1775725200-1775739600@nycdetectives.org
SUMMARY:Detectives' Endowment Association Delegates' Meeting
DESCRIPTION:
URL:https://nycdetectives.org/event/detectives-endowment-association-delegates-meeting-2/
LOCATION:Russo’s on the Bay\, 162-45 Cross Bay Boulevard\, Howard Beach\, NY\, 11414
CATEGORIES:General Membership Meeting,Law Enforcement
ATTACH;FMTTYPE=image/png:https://nycdetectives.org/wp-content/uploads/2025/11/dea-logo-registered-600.png
END:VEVENT
BEGIN:VEVENT
DTSTART;TZID=America/New_York:20260409T180000
DTEND;TZID=America/New_York:20260409T200000
DTSTAMP:20260423T012815
CREATED:20260326T165325Z
LAST-MODIFIED:20260330T171524Z
UID:106647-1775757600-1775764800@nycdetectives.org
SUMMARY:"My Name Is Petrosino" at The Italian American Museum
DESCRIPTION:
URL:https://nycdetectives.org/event/my-name-is-petrosino-at-the-italian-american-museum/
LOCATION:THE ITALIAN AMERICAN MUSEUM\, 151 Mulberry Street\, New York\, NY
CATEGORIES:Community Event,Remembrance
ATTACH;FMTTYPE=image/jpeg:https://nycdetectives.org/wp-content/uploads/2026/03/04092026-Petrosino-IAM-Event-Flyer-V4-scaled.jpeg
END:VEVENT
BEGIN:VEVENT
DTSTART;TZID=America/New_York:20260410T190000
DTEND;TZID=America/New_York:20260410T233000
DTSTAMP:20260423T012815
CREATED:20260128T014632Z
LAST-MODIFIED:20260323T222044Z
UID:103419-1775847600-1775863800@nycdetectives.org
SUMMARY:NYPD Pulaski Association Awards Dinner Dance
DESCRIPTION:
URL:https://nycdetectives.org/event/nypd-pulaski-association-awards-dinner-dance/
LOCATION:Leonards Pallazzo\, 555 Northern Blvd\, Great Neck\, NY\, 11021\, United States
CATEGORIES:Awards Dinner
ATTACH;FMTTYPE=image/jpeg:https://nycdetectives.org/wp-content/uploads/2026/01/04102026-Pulaski-Associaiton-68th-.jpg
END:VEVENT
BEGIN:VEVENT
DTSTART;TZID=America/New_York:20260413T120000
DTEND;TZID=America/New_York:20260413T180000
DTSTAMP:20260423T012815
CREATED:20260208T033557Z
LAST-MODIFIED:20260208T033557Z
UID:104543-1776081600-1776103200@nycdetectives.org
SUMMARY:Northport PBA Golf Outing
DESCRIPTION:
URL:https://nycdetectives.org/event/northport-pba-golf-outing/
LOCATION:TopGolf\, 5231 Express Dr. N\, Holtsville\, NY\, 11742
CATEGORIES:Sporting Event,Union Sponsored
ATTACH;FMTTYPE=image/jpeg:https://nycdetectives.org/wp-content/uploads/2026/02/04132026-Northport-PBA-Golf-1-scaled.jpg
END:VEVENT
BEGIN:VEVENT
DTSTART;TZID=America/New_York:20260415T120000
DTEND;TZID=America/New_York:20260415T140000
DTSTAMP:20260423T012815
CREATED:20260407T200448Z
LAST-MODIFIED:20260407T200457Z
UID:107385-1776254400-1776261600@nycdetectives.org
SUMMARY:National Law Enforcement Associates
DESCRIPTION:
URL:https://nycdetectives.org/event/national-law-enforcement-associates/
LOCATION:Arno Ristorante\, 141 West 38th Street\, New York\, NY\, 10018
CATEGORIES:Law Enforcement,Luncheon
ATTACH;FMTTYPE=image/jpeg:https://nycdetectives.org/wp-content/uploads/2026/04/04152026-NLEA-Luncheon.jpg
END:VEVENT
BEGIN:VEVENT
DTSTART;TZID=America/New_York:20260415T150000
DTEND;TZID=America/New_York:20260416T120000
DTSTAMP:20260423T012815
CREATED:20260413T193108Z
LAST-MODIFIED:20260413T193108Z
UID:107549-1776265200-1776340800@nycdetectives.org
SUMMARY:Wake & Funeral for Retired Det. John J. Swift
DESCRIPTION:The DEA regrets to announce the passing of Det. John J. Swift\, who retired out of the 44 Squad on December 31\, 2002. Det. Swift joined the force on July 8\, 1985\, and was promoted to Detective on June 28\, 1990. He was a veteran of the U.S. Army and served in Afghanistan. Retired Det. Swift passed away on April 11\, 2026. His wake will be held on Wednesday\, April 15\, 2026\, at Schuyler Hill Funeral Home at 3535 East Tremont Avenue in The Bronx\, NY 10465\, from 3:00 p.m. to 7:00 p.m.  His funeral mass will be held on Thursday\, April 16\, 2026\, at St. Peter’s RC Church on 22 Barclay Street in lower Manhattan\, NY 10007\, beginning at 10:00 a.m. He will be greatly missed.
URL:https://nycdetectives.org/event/wake-funeral-for-retired-det-john-j-swift/
LOCATION:NY 10471
CATEGORIES:Funeral
END:VEVENT
BEGIN:VEVENT
DTSTART;TZID=America/New_York:20260415T180000
DTEND;TZID=America/New_York:20260415T233000
DTSTAMP:20260423T012815
CREATED:20260210T210032Z
LAST-MODIFIED:20260323T222154Z
UID:104634-1776276000-1776295800@nycdetectives.org
SUMMARY:Fraternal Order Of Police Lodge 100
DESCRIPTION:
URL:https://nycdetectives.org/event/fraternal-order-of-police-lodge-100/
LOCATION:NY 10471
CATEGORIES:Fraternal Event,Scholarship & Awards Dinner Dance
ATTACH;FMTTYPE=image/png:https://nycdetectives.org/wp-content/uploads/2026/03/04152026-FOP-100-Award-Gala.png
END:VEVENT
BEGIN:VEVENT
DTSTART;TZID=America/New_York:20260416T183000
DTEND;TZID=America/New_York:20260417T003000
DTSTAMP:20260423T012815
CREATED:20260208T031146Z
LAST-MODIFIED:20260407T202114Z
UID:104537-1776364200-1776385800@nycdetectives.org
SUMMARY:Desi Society 17th Annual Scholarship Awards
DESCRIPTION:
URL:https://nycdetectives.org/event/desi-society-17th-annual-scholarship-awards/
LOCATION:Leonards Pallazzo\, 555 Northern Blvd\, Great Neck\, NY\, 11021\, United States
CATEGORIES:Fraternal Event,Scholarship & Awards Dinner Dance
ATTACH;FMTTYPE=image/jpeg:https://nycdetectives.org/wp-content/uploads/2026/02/04162026-Desi-Society-Gala-rev2-scaled.jpg
END:VEVENT
BEGIN:VEVENT
DTSTART;TZID=America/New_York:20260417T090000
DTEND;TZID=America/New_York:20260417T140000
DTSTAMP:20260423T012815
CREATED:20260407T201838Z
LAST-MODIFIED:20260407T201839Z
UID:107388-1776416400-1776434400@nycdetectives.org
SUMMARY:Police Officer Ramon Suarez Memorial Foundation 3rd Annual We Support Cops Day
DESCRIPTION:
URL:https://nycdetectives.org/event/police-officer-ramon-suarez-memorial-foundation-3rd-annual-we-support-cops-day/
LOCATION:PO Ramon Ssuarez School PS 2390\, 17-15 Weirfield Street\, Ridgewood\, NY\, 11385
CATEGORIES:Community Event
ATTACH;FMTTYPE=image/jpeg:https://nycdetectives.org/wp-content/uploads/2026/04/04172026-3rd-Annual-Ramon-Suarez-We-support-Cops-Day.jpg
END:VEVENT
BEGIN:VEVENT
DTSTART;TZID=America/New_York:20260417T180000
DTEND;TZID=America/New_York:20260417T233000
DTSTAMP:20260423T012815
CREATED:20260208T035134Z
LAST-MODIFIED:20260323T171528Z
UID:104552-1776448800-1776468600@nycdetectives.org
SUMMARY:Gay Officers Action League Gala
DESCRIPTION:
URL:https://nycdetectives.org/event/gay-officers-action-league-gala/
LOCATION:Sony Hall\, 235 W. 46 Street\, New York\, NY
CATEGORIES:Fraternal Event,Scholarship & Awards Dinner Dance
ATTACH;FMTTYPE=image/jpeg:https://nycdetectives.org/wp-content/uploads/2026/02/04172026-GOAL-Gala.jpg
END:VEVENT
BEGIN:VEVENT
DTSTART;TZID=America/New_York:20260419T080000
DTEND;TZID=America/New_York:20260419T130000
DTSTAMP:20260423T012815
CREATED:20260208T035914Z
LAST-MODIFIED:20260323T222629Z
UID:104554-1776585600-1776603600@nycdetectives.org
SUMMARY:Holy Name Society - Manhattan\, Bronx & Staten Island
DESCRIPTION:Mass @ ST Patrick’s Cathedral \nProcession \nBreakfast at New York Hilton Midtown\, 53rd Street \n \n 
URL:https://nycdetectives.org/event/holy-name-society-manhattan-bronx-staten-island/
LOCATION:New York Hilton Midtown\, 1335 6th Ave\, New York\, NY\, 10019
CATEGORIES:Fraternal Event,Scholarship & Awards Breakfast
ATTACH;FMTTYPE=image/jpeg:https://nycdetectives.org/wp-content/uploads/2026/02/04192026-HNS-MBxSI.jpg
END:VEVENT
BEGIN:VEVENT
DTSTART;TZID=America/New_York:20260419T150000
DTEND;TZID=America/New_York:20260420T120000
DTSTAMP:20260423T012815
CREATED:20260415T150919Z
LAST-MODIFIED:20260415T150919Z
UID:107681-1776610800-1776686400@nycdetectives.org
SUMMARY:Funeral for Paul McCullagh\, Executive Director of Labor Relations
DESCRIPTION:
URL:https://nycdetectives.org/event/funeral-for-paul-mccullagh-executive-director-of-labor-relations/
LOCATION:NY 10471
ATTACH;FMTTYPE=image/jpeg:https://nycdetectives.org/wp-content/uploads/2026/04/Funeral-Arrangements-for-Active-Executive-Director-Paul-McCullagh.jpeg
END:VEVENT
BEGIN:VEVENT
DTSTART;TZID=America/New_York:20260419T190000
DTEND;TZID=America/New_York:20260419T220000
DTSTAMP:20260423T012815
CREATED:20260323T224924Z
LAST-MODIFIED:20260323T224924Z
UID:106536-1776625200-1776636000@nycdetectives.org
SUMMARY:NYPD Detectives Vs Boldest Hockey to Benefit Autism Awareness
DESCRIPTION:
URL:https://nycdetectives.org/event/nypd-detectives-vs-boldest-hockey-to-benefit-autism-awareness/
LOCATION:The Rink @ American Dream\, 1 American Dream Way\, Rutherford\, NY\, 07073
CATEGORIES:Fundraiser,Sporting Event
END:VEVENT
BEGIN:VEVENT
DTSTART;TZID=America/New_York:20260421T130000
DTEND;TZID=America/New_York:20260421T160000
DTSTAMP:20260423T012815
CREATED:20260323T223242Z
LAST-MODIFIED:20260323T224148Z
UID:106526-1776776400-1776787200@nycdetectives.org
SUMMARY:Housing Bureau Memorial Mass
DESCRIPTION:
URL:https://nycdetectives.org/event/housing-bureau-memorial-mass-2/
LOCATION:St Frances De Chantel RC CHurch\, 190 Hollywood Ave\, Bronx\, NY\, 10465
CATEGORIES:Remembrance
ATTACH;FMTTYPE=image/png:https://nycdetectives.org/wp-content/uploads/2026/03/04212026-HB-Memorial-Mass-1.png
END:VEVENT
BEGIN:VEVENT
DTSTART;TZID=America/New_York:20260421T180000
DTEND;TZID=America/New_York:20260421T220000
DTSTAMP:20260423T012815
CREATED:20260408T134125Z
LAST-MODIFIED:20260408T134454Z
UID:107409-1776794400-1776808800@nycdetectives.org
SUMMARY:New York Law Enforcement Foundation 3rd Annual Cigar Night
DESCRIPTION:
URL:https://nycdetectives.org/event/new-york-law-enforcement-foundation-3rd-annual-cigar-night/
LOCATION:Giando On The Water\, 400 Kent Ave\, Brooklyn\, NY\, 11249
CATEGORIES:Cigar Night
ATTACH;FMTTYPE=image/jpeg:https://nycdetectives.org/wp-content/uploads/2026/04/Screenshot_20260329_173356_Instagram.jpg
END:VEVENT
BEGIN:VEVENT
DTSTART;TZID=America/New_York:20260422T100000
DTEND;TZID=America/New_York:20260422T130000
DTSTAMP:20260423T012815
CREATED:20260310T194932Z
LAST-MODIFIED:20260323T222725Z
UID:106034-1776852000-1776862800@nycdetectives.org
SUMMARY:PBBN Annual Memorial Mass
DESCRIPTION:
URL:https://nycdetectives.org/event/pbbn-annual-memorial-mass/
LOCATION:Our Lady of Mount Carmel\, 275 North 8th Street\, Brooklyn\, NY\, 11211
CATEGORIES:Remembrance
ATTACH;FMTTYPE=image/jpeg:https://nycdetectives.org/wp-content/uploads/2026/03/PBBN-Memorial-Mass-Flyer-4.22.26.jpg
END:VEVENT
BEGIN:VEVENT
DTSTART;TZID=America/New_York:20260422T103000
DTEND;TZID=America/New_York:20260422T130000
DTSTAMP:20260423T012815
CREATED:20260309T165023Z
LAST-MODIFIED:20260323T222800Z
UID:105947-1776853800-1776862800@nycdetectives.org
SUMMARY:PBQS 11th Annual LOD Memorial Service
DESCRIPTION:
URL:https://nycdetectives.org/event/pbqs-11th-annual-lod-memorial-service/
LOCATION:Immaculate Conception Church\, 86-45 Edgerton Blvd.\, Jamaica\, NY\, 11432
CATEGORIES:Remembrance
ATTACH;FMTTYPE=image/jpeg:https://nycdetectives.org/wp-content/uploads/2026/03/PBQS-11th-Annual-Line-of-Duty-Memorial-Service.jpeg
END:VEVENT
BEGIN:VEVENT
DTSTART;TZID=America/New_York:20260423T180000
DTEND;TZID=America/New_York:20260423T233000
DTSTAMP:20260423T012815
CREATED:20260422T210058Z
LAST-MODIFIED:20260422T210058Z
UID:107902-1776967200-1776987000@nycdetectives.org
SUMMARY:NYPD Boxing Presents Bronx Vs Staten Island
DESCRIPTION:
URL:https://nycdetectives.org/event/nypd-boxing-presents-bronx-vs-staten-island/
LOCATION:Billys Sports Bar & Lounge\, 856 River Ave\, Bronx\, NY\, 10451\, United States
CATEGORIES:Community Event,Sporting Event
ATTACH;FMTTYPE=image/jpeg:https://nycdetectives.org/wp-content/uploads/2026/04/04232026-Smoker-Bronx.jpg
END:VEVENT
END:VCALENDAR